BEGIN:VCALENDAR
VERSION:2.0
PRODID:-//Vorsfelde-live e.V. - ECPv6.15.20//NONSGML v1.0//EN
CALSCALE:GREGORIAN
METHOD:PUBLISH
X-WR-CALNAME:Vorsfelde-live e.V.
X-ORIGINAL-URL:https://vorsfelde-live.de
X-WR-CALDESC:Veranstaltungen für Vorsfelde-live e.V.
REFRESH-INTERVAL;VALUE=DURATION:PT1H
X-Robots-Tag:noindex
X-PUBLISHED-TTL:PT1H
BEGIN:VTIMEZONE
TZID:Europe/Berlin
BEGIN:DAYLIGHT
TZOFFSETFROM:+0100
TZOFFSETTO:+0200
TZNAME:CEST
DTSTART:20240331T010000
END:DAYLIGHT
BEGIN:STANDARD
TZOFFSETFROM:+0200
TZOFFSETTO:+0100
TZNAME:CET
DTSTART:20241027T010000
END:STANDARD
BEGIN:DAYLIGHT
TZOFFSETFROM:+0100
TZOFFSETTO:+0200
TZNAME:CEST
DTSTART:20250330T010000
END:DAYLIGHT
BEGIN:STANDARD
TZOFFSETFROM:+0200
TZOFFSETTO:+0100
TZNAME:CET
DTSTART:20251026T010000
END:STANDARD
BEGIN:DAYLIGHT
TZOFFSETFROM:+0100
TZOFFSETTO:+0200
TZNAME:CEST
DTSTART:20260329T010000
END:DAYLIGHT
BEGIN:STANDARD
TZOFFSETFROM:+0200
TZOFFSETTO:+0100
TZNAME:CET
DTSTART:20261025T010000
END:STANDARD
BEGIN:DAYLIGHT
TZOFFSETFROM:+0100
TZOFFSETTO:+0200
TZNAME:CEST
DTSTART:20270328T010000
END:DAYLIGHT
BEGIN:STANDARD
TZOFFSETFROM:+0200
TZOFFSETTO:+0100
TZNAME:CET
DTSTART:20271031T010000
END:STANDARD
END:VTIMEZONE
BEGIN:VEVENT
DTSTART;TZID=Europe/Berlin:20260415T190000
DTEND;TZID=Europe/Berlin:20260415T210000
DTSTAMP:20260422T160100
CREATED:20260209T123950Z
LAST-MODIFIED:20260209T123950Z
UID:4873-1776279600-1776286800@vorsfelde-live.de
SUMMARY:Vorsorgevollmacht und Patientenverfügung
DESCRIPTION:Wer trifft Entscheidungen\, wenn man selbst dazu nicht mehr in der Lage ist?\nRechtsanwalt Thomas Böker erläutert die Möglichkeiten und Risiken von Vorsorgevollmacht\nund Patientenverfügung – und zeigt\, wie sie sich von der gesetzlichen Betreuung\nunterscheiden.\nEin wichtiges Thema – nicht nur im Lebensherbst.\nReferent: Rechtsanwalt Thomas Böker\nVerbindliche Anmeldung bis 12. April\nDr. Ulrike Beckmann Telefon: (05363) 97 61 68\nHeidrun Berngruber Telefon: (05361) 5 18 73
URL:https://vorsfelde-live.de/event/vorsorgevollmacht-und-patientenverfuegung/
LOCATION:Schützenhaus\, Meinstraße 86\, Wolfsburg\, Meinstraße 86\, Wolfsburg\, 38448\, Deutschland
CATEGORIES:Termine
END:VEVENT
BEGIN:VEVENT
DTSTART;TZID=Europe/Berlin:20260410T183000
DTEND;TZID=Europe/Berlin:20260410T210000
DTSTAMP:20260422T160100
CREATED:20260227T131548Z
LAST-MODIFIED:20260227T131708Z
UID:4904-1775845800-1775854800@vorsfelde-live.de
SUMMARY:Autorenlesung "Wir wollen doch nur leben" Fallersleben 1935-1949
DESCRIPTION:Axel Claes & Friedrich Wandschneider \nEintritt frei\, aus Platzgründen bitte rechtzeitig reservieren
URL:https://vorsfelde-live.de/event/autorenlesung-wir-wollen-doch-nur-leben-fallersleben-1935-1949/
LOCATION:Heimatstube Wolfsburg\, Meinstraße 13\, Wolfsburg/Vorsfelde\, Niedersachsen\, 38448\, Deutschland
CATEGORIES:Termine
END:VEVENT
BEGIN:VEVENT
DTSTART;TZID=Europe/Berlin:20260409T140000
DTEND;TZID=Europe/Berlin:20260409T170000
DTSTAMP:20260422T160100
CREATED:20260209T123839Z
LAST-MODIFIED:20260209T123839Z
UID:4871-1775743200-1775754000@vorsfelde-live.de
SUMMARY:Brandschutzaufklärung – Alltagsgefahren erkennen und vermeiden
DESCRIPTION:Ob in der Küche\, im Wohnzimmer oder unterwegs: Brandgefahren lauern oft dort\, wo wir sie\nam wenigsten erwarten.\nVolkmar Weichert von der Freiwilligen Feuerwehr Vorsfelde zeigt uns\, wie wir Brandrisiken\nim Alltag besser erkennen\, vorbeugen – und im Ernstfall richtig reagieren können.\nReferent: Volkmar Weichert\nTischschmuck: Eischott / Elke Feustel\nVerbindliche Anmeldung bei Ihrer Ortsvertreterin bis 07. April
URL:https://vorsfelde-live.de/event/brandschutzaufklaerung-alltagsgefahren-erkennen-und-vermeiden/
LOCATION:Schützenhaus\, Meinstraße 86\, Wolfsburg\, Meinstraße 86\, Wolfsburg\, 38448\, Deutschland
CATEGORIES:Termine
END:VEVENT
BEGIN:VEVENT
DTSTART;TZID=Europe/Berlin:20260407T140000
DTEND;TZID=Europe/Berlin:20260407T193000
DTSTAMP:20260422T160100
CREATED:20251207T094140Z
LAST-MODIFIED:20251207T094140Z
UID:4793-1775570400-1775590200@vorsfelde-live.de
SUMMARY:DRK Blutspende
DESCRIPTION:
URL:https://vorsfelde-live.de/event/drk-blutspende-2/
LOCATION:Heidgartenschule\, Zum Heidgarten 42\, Wolfsburg\, Niedersachsen\, 38448\, Deutschland
CATEGORIES:Termine
END:VEVENT
BEGIN:VEVENT
DTSTART;VALUE=DATE:20260407
DTEND;VALUE=DATE:20260408
DTSTAMP:20260422T160100
CREATED:20251207T094404Z
LAST-MODIFIED:20251207T094404Z
UID:4795-1775520000-1775606399@vorsfelde-live.de
SUMMARY:DLRG Einweihung Fahrzeug- und Lagerhalle
DESCRIPTION:
URL:https://vorsfelde-live.de/event/dlrg-einweihung-fahrzeug-und-lagerhalle/
LOCATION:Niedersachsen
CATEGORIES:Termine
END:VEVENT
BEGIN:VEVENT
DTSTART;TZID=Europe/Berlin:20260327T080000
DTEND;TZID=Europe/Berlin:20260327T170000
DTSTAMP:20260422T160100
CREATED:20260209T112745Z
LAST-MODIFIED:20260209T123642Z
UID:4869-1774598400-1774630800@vorsfelde-live.de
SUMMARY:Weltpremiere: Cirque du Soleil – ALIZÉ
DESCRIPTION:Erleben Sie den außergewöhnlichsten Zirkus der Welt! Cirque du Soleil steht für Magie\,\nPoesie und atemberaubende Artistik – ganz ohne Tiere\, dafür mit Fantasie und\nspektakulären Inszenierungen\, die Millionen Menschen weltweit begeistern.\nMit der neuen Show ALIZÉ erwartet Sie eine Reise ins Unsichtbare – ein Abenteuer\, das\ndie Grenzen des Vorstellbaren sprengt.\nIm Reisepreis enthalten: Busfahrt\, Eintrittskarte PK 3 sowie ein besonderes Mittagessen\nim beliebten Restaurant „Weilands“ am Potsdamer Platz\, Berlin.\nKosten: 179\,00 Euro\nAbfahrt: 09:00 Uhr Schützenplatz Vorsfelde / Ankunft in Vorsfelde ca. 22:15 Uhr\nAnmeldung: Reisebüro briOtours\, Lange Straße 30\, Vorsfelde
URL:https://vorsfelde-live.de/event/weltpremiere-cirque-du-soleil-alize/
LOCATION:Niedersachsen
CATEGORIES:Termine
END:VEVENT
BEGIN:VEVENT
DTSTART;TZID=Europe/Berlin:20260320T150000
DTEND;TZID=Europe/Berlin:20260320T170000
DTSTAMP:20260422T160100
CREATED:20251207T093717Z
LAST-MODIFIED:20260209T112602Z
UID:4789-1774018800-1774026000@vorsfelde-live.de
SUMMARY:Eröffnung der Eieruhr-Saison am Ütschenpaul
DESCRIPTION:Freuen Sie sich auf ein kleines Programm\, gute Stimmung und nette Begegnungen.
URL:https://vorsfelde-live.de/event/eieruhr-landfrauen/
LOCATION:Lange Straße\, Vorsfelde\, Lange Straße \, Wolfsburg\, Niedersachsen\, 38448\, Deutschland
CATEGORIES:Termine
END:VEVENT
BEGIN:VEVENT
DTSTART;TZID=Europe/Berlin:20260318T190000
DTEND;TZID=Europe/Berlin:20260318T210000
DTSTAMP:20260422T160100
CREATED:20260209T112503Z
LAST-MODIFIED:20260209T112503Z
UID:4866-1773860400-1773867600@vorsfelde-live.de
SUMMARY:Biberreviere im UNESCO-Biosphärenreservat Drömling
DESCRIPTION:Rund um Vorsfelde begegnen uns seit etwa zehn Jahren immer häufiger die Spuren des\nBibers. Es gibt mehrere Biberburgen und Dämme\, die Reinhold Wagner in seinem Film\nvorstellt. Da der Biber nachtaktiv ist\, haben ihn bisher nur wenige Menschen in freier Natur\nbeobachten können.\nFreuen wir uns auf beeindruckende Aufnahmen des Bibers und seines Lebensraums rund\num Wolfsburg.\nReferent: Reinhold Wagner\nVerbindliche Anmeldung bis 15. März\nDr. Ulrike Beckmann Telefon: (05363) 97 61 68\nHeidrun Berngruber Telefon: (05361) 5 18 73
URL:https://vorsfelde-live.de/event/biberreviere-im-unesco-biosphaerenreservat-droemling/
LOCATION:Schützenhaus\, Meinstraße 86\, Wolfsburg\, Meinstraße 86\, Wolfsburg\, 38448\, Deutschland
CATEGORIES:Termine
END:VEVENT
BEGIN:VEVENT
DTSTART;TZID=Europe/Berlin:20260315T100000
DTEND;TZID=Europe/Berlin:20260315T120000
DTSTAMP:20260422T160100
CREATED:20251207T093618Z
LAST-MODIFIED:20251207T093618Z
UID:4787-1773568800-1773576000@vorsfelde-live.de
SUMMARY:Preisvergabe Schweinepreisschießen
DESCRIPTION:
URL:https://vorsfelde-live.de/event/preisvergabe-schweinepreisschiessen-2/
LOCATION:Schützenhaus\, Meinstraße 86\, Wolfsburg\, Meinstraße 86\, Wolfsburg\, 38448\, Deutschland
CATEGORIES:Termine
END:VEVENT
BEGIN:VEVENT
DTSTART;TZID=Europe/Berlin:20260312T140000
DTEND;TZID=Europe/Berlin:20260312T180000
DTSTAMP:20260422T160100
CREATED:20260209T112257Z
LAST-MODIFIED:20260209T112257Z
UID:4862-1773324000-1773338400@vorsfelde-live.de
SUMMARY:Jahreshauptversammlung - mit Ehrung langjähriger Mitglieder
DESCRIPTION:Als Gast begrüßen wir Immacolata Glosemeyer\, sie wird uns kurz von ihrem\nWerdegang erzählen.\nJahresrückblick\nErinnerungen an unsere gemeinsamen Momente in 2025\nReferentin: Dr. Ulrike Beckmann\nTischschmuck: Brechtorf / Renate Storch\nVerbindliche Anmeldung bei Ihrer Ortsvertreterin bis 09. März
URL:https://vorsfelde-live.de/event/jahreshauptversammlung-mit-ehrung-langjaehriger-mitglieder/
LOCATION:Schützenhaus\, Meinstraße 86\, Wolfsburg\, Meinstraße 86\, Wolfsburg\, 38448\, Deutschland
CATEGORIES:Termine
END:VEVENT
BEGIN:VEVENT
DTSTART;VALUE=DATE:20260312
DTEND;VALUE=DATE:20260313
DTSTAMP:20260422T160100
CREATED:20251207T093512Z
LAST-MODIFIED:20251207T093512Z
UID:4784-1773273600-1773359999@vorsfelde-live.de
SUMMARY:Nachrichten auf Platt
DESCRIPTION:Heimatverein Plattkring\, Regine Zimmermann
URL:https://vorsfelde-live.de/event/nachrichten-auf-platt/
LOCATION:Niedersachsenhaus Wenschott\, Wendenstraße 14\, Wolfsburg/Vorsfelde\, 38448\, Germany
CATEGORIES:Termine
END:VEVENT
BEGIN:VEVENT
DTSTART;TZID=Europe/Berlin:20260306T190000
DTEND;TZID=Europe/Berlin:20260306T210000
DTSTAMP:20260422T160100
CREATED:20260209T104522Z
LAST-MODIFIED:20260209T104522Z
UID:4856-1772823600-1772830800@vorsfelde-live.de
SUMMARY:Lesung Lessings Lakaien "Dezemberblues"
DESCRIPTION:
URL:https://vorsfelde-live.de/event/lesung-lessings-lakaien-dezemberblues/
LOCATION:Heimatstube Wolfsburg\, Meinstraße 13\, Wolfsburg/Vorsfelde\, Niedersachsen\, 38448\, Deutschland
CATEGORIES:Termine
END:VEVENT
BEGIN:VEVENT
DTSTART;VALUE=DATE:20260304
DTEND;VALUE=DATE:20260305
DTSTAMP:20260422T160100
CREATED:20251207T093056Z
LAST-MODIFIED:20251207T093056Z
UID:4782-1772582400-1772668799@vorsfelde-live.de
SUMMARY:Vortrag Betreuungsverein „Betreuungsvollmacht“
DESCRIPTION:Eine gemeinsame Veranstaltung des Kulturvereins Zugabe und des Heimatvereins
URL:https://vorsfelde-live.de/event/vortrag-betreuungsverein-betreuungsvollmacht/
LOCATION:Schützenhaus\, Meinstraße 86\, Wolfsburg\, Meinstraße 86\, Wolfsburg\, 38448\, Deutschland
CATEGORIES:Termine
END:VEVENT
BEGIN:VEVENT
DTSTART;TZID=Europe/Berlin:20260301T150000
DTEND;TZID=Europe/Berlin:20260301T170000
DTSTAMP:20260422T160100
CREATED:20251207T092854Z
LAST-MODIFIED:20251207T092854Z
UID:4780-1772377200-1772384400@vorsfelde-live.de
SUMMARY:Jahreshauptversammlung Siedlergemeinschaft
DESCRIPTION:
URL:https://vorsfelde-live.de/event/jahreshauptversammlung-siedlergemeinschaft/
LOCATION:Schützenhaus\, Meinstraße 86\, Wolfsburg\, Meinstraße 86\, Wolfsburg\, 38448\, Deutschland
CATEGORIES:Termine
END:VEVENT
BEGIN:VEVENT
DTSTART;TZID=Europe/Berlin:20260228T103000
DTEND;TZID=Europe/Berlin:20260228T170000
DTSTAMP:20260422T160100
CREATED:20251207T092721Z
LAST-MODIFIED:20260209T112026Z
UID:4777-1772274600-1772298000@vorsfelde-live.de
SUMMARY:Landfrauen Biberwanderung Dem Biber auf der Spur
DESCRIPTION:Gemeinsam mit Reinhold Wagner gehen wir den Spuren des Bibers nach. Groß und Klein\nentdecken Spannendes über den Baumeister am Wasser.\nEin Naturerlebnis für die ganze Familie!\nStart: 10:30 Uhr / Drömling-Stadion in Vorsfelde\nBeitrag: Wir freuen uns über eine Spende als Dankeschön für Herrn Wagner.\nVerbindliche Anmeldung bis 23. Februar\nSigrid Weinkauf Telefon: (05363) 9 91 43\nHeidrun Berngruber Telefon: (05361) 5 18 73
URL:https://vorsfelde-live.de/event/landfrauen-biberwanderung/
LOCATION:Drömlingstadion\, Am Drömlingstadion\, Wolfsburg/Vorsfelde\, 38448\, Germany
CATEGORIES:Termine
END:VEVENT
BEGIN:VEVENT
DTSTART;TZID=Europe/Berlin:20260225T193000
DTEND;TZID=Europe/Berlin:20260225T220000
DTSTAMP:20260422T160100
CREATED:20251207T092446Z
LAST-MODIFIED:20251207T092446Z
UID:4775-1772047800-1772056800@vorsfelde-live.de
SUMMARY:„Der Enkeltrick“
DESCRIPTION:
URL:https://vorsfelde-live.de/event/der-enkeltrick/
LOCATION:Domizil Kulturverein Zugabe\, Am Drömlingstadion 10\, Wolfsburg\, Niedersachsen\, 38448\, Germany
CATEGORIES:Termine
END:VEVENT
BEGIN:VEVENT
DTSTART;TZID=Europe/Berlin:20260224T080000
DTEND;TZID=Europe/Berlin:20260313T170000
DTSTAMP:20260422T160101
CREATED:20251207T092335Z
LAST-MODIFIED:20251207T092335Z
UID:4773-1771920000-1773421200@vorsfelde-live.de
SUMMARY:Schweinepreisschießen
DESCRIPTION:
URL:https://vorsfelde-live.de/event/schweinepreisschiessen/
LOCATION:Niedersachsen
CATEGORIES:Termine
END:VEVENT
BEGIN:VEVENT
DTSTART;TZID=Europe/Berlin:20260218T190000
DTEND;TZID=Europe/Berlin:20260218T210000
DTSTAMP:20260422T160101
CREATED:20260209T111619Z
LAST-MODIFIED:20260209T111619Z
UID:4859-1771441200-1771448400@vorsfelde-live.de
SUMMARY:Clever alt werden - Teil 2
DESCRIPTION:Auch im zweiten Teil der Vortragsreihe vermittelt der Arzt Dr. Ulrich Prang auf\nabwechslungsreiche Weise Wissen\, das dabei hilft\, Gebrechlichkeit und Pflegebedürftigkeit\nim Alter vorzubeugen.\nDiesmal steht besonders das Thema Diabetes mellitus (Zuckerkrankheit) im Mittelpunkt.\nReferent: Dr. Ulrich Prang\nVerbindliche Anmeldung bis 15. Februar\nDr. Ulrike Beckmann Telefon: (05363) 97 61 68\nHeidrun Berngruber Telefon: (05361) 5 18 73
URL:https://vorsfelde-live.de/event/clever-alt-werden-teil-2/
LOCATION:Schützenhaus\, Meinstraße 86\, Wolfsburg\, Meinstraße 86\, Wolfsburg\, 38448\, Deutschland
CATEGORIES:Termine
END:VEVENT
BEGIN:VEVENT
DTSTART;TZID=Europe/Berlin:20260218T180000
DTEND;TZID=Europe/Berlin:20260218T210000
DTSTAMP:20260422T160101
CREATED:20251207T092037Z
LAST-MODIFIED:20251207T092037Z
UID:4769-1771437600-1771448400@vorsfelde-live.de
SUMMARY:Jahreshauptversammlung Heimatverein
DESCRIPTION:
URL:https://vorsfelde-live.de/event/jahreshauptversammlung-heimatverein-3/
LOCATION:Niedersachsen
CATEGORIES:Termine
END:VEVENT
BEGIN:VEVENT
DTSTART;TZID=Europe/Berlin:20260215T160000
DTEND;TZID=Europe/Berlin:20260215T180000
DTSTAMP:20260422T160101
CREATED:20251207T091856Z
LAST-MODIFIED:20251207T091856Z
UID:4767-1771171200-1771178400@vorsfelde-live.de
SUMMARY:Generalversammlung Schützenbrüderschaft
DESCRIPTION:
URL:https://vorsfelde-live.de/event/generalversammlung-schuetzenbruederschaft-2/
LOCATION:Niedersachsen
CATEGORIES:Termine
END:VEVENT
BEGIN:VEVENT
DTSTART;TZID=Europe/Berlin:20260214T190000
DTEND;TZID=Europe/Berlin:20260214T220000
DTSTAMP:20260422T160101
CREATED:20251207T091805Z
LAST-MODIFIED:20251207T091805Z
UID:4765-1771095600-1771106400@vorsfelde-live.de
SUMMARY:Theater „Der Enkeltrick“
DESCRIPTION:
URL:https://vorsfelde-live.de/event/theater-der-enkeltrick/
LOCATION:Domizil Kulturverein Zugabe\, Am Drömlingstadion 10\, Wolfsburg\, Niedersachsen\, 38448\, Germany
CATEGORIES:Termine
END:VEVENT
BEGIN:VEVENT
DTSTART;TZID=Europe/Berlin:20260210T080000
DTEND;TZID=Europe/Berlin:20260210T170000
DTSTAMP:20260422T160101
CREATED:20260210T072115Z
LAST-MODIFIED:20260210T072115Z
UID:4886-1770710400-1770742800@vorsfelde-live.de
SUMMARY:Glück beginnt im Kopf
DESCRIPTION:Alle wollen glücklich sein\, sind ständig auf der Suche nach dem Glück. Die Referentin\nElke Josch schaut auf unsere kleinen Glücksmomente\, die uns immer wieder begegnen.\nSie betrachtet aber auch „Glückskiller“ und wie wir sie positiv beeinflussen können.\nSchließlich soll geklärt werden\, welcher Glückstyp wir sind.\nReferentin: Elke Josch\nVerbindliche Anmeldung bis 13. September\nDr. Ulrike Beckmann Telefon: (05363) 97 61 68\nHeidrun Berngruber Telefon: (05361) 5 18 73
URL:https://vorsfelde-live.de/event/glueck-beginnt-im-kopf/
LOCATION:Schützenhaus\, Meinstraße 86\, Wolfsburg\, Meinstraße 86\, Wolfsburg\, 38448\, Deutschland
CATEGORIES:Termine
END:VEVENT
BEGIN:VEVENT
DTSTART;TZID=Europe/Berlin:20260202T140000
DTEND;TZID=Europe/Berlin:20260202T193000
DTSTAMP:20260422T160101
CREATED:20251207T091646Z
LAST-MODIFIED:20251207T091646Z
UID:4763-1770040800-1770060600@vorsfelde-live.de
SUMMARY:DRK Blutspende
DESCRIPTION:
URL:https://vorsfelde-live.de/event/drk-blutspende/
LOCATION:Heidgartenschule\, Zum Heidgarten 42\, Wolfsburg\, Niedersachsen\, 38448\, Deutschland
CATEGORIES:Termine
END:VEVENT
BEGIN:VEVENT
DTSTART;TZID=Europe/Berlin:20260201T100000
DTEND;TZID=Europe/Berlin:20260201T170000
DTSTAMP:20260422T160101
CREATED:20251207T091527Z
LAST-MODIFIED:20251207T091527Z
UID:4761-1769940000-1769965200@vorsfelde-live.de
SUMMARY:Winterwanderung
DESCRIPTION:
URL:https://vorsfelde-live.de/event/winterwanderung-2/
LOCATION:Niedersachsen
CATEGORIES:Termine
END:VEVENT
BEGIN:VEVENT
DTSTART;TZID=Europe/Berlin:20260117T100000
DTEND;TZID=Europe/Berlin:20260117T120000
DTSTAMP:20260422T160101
CREATED:20251207T091430Z
LAST-MODIFIED:20251207T091430Z
UID:4759-1768644000-1768651200@vorsfelde-live.de
SUMMARY:Jahreshauptversammlung Kyffhäuser Kameradschaft
DESCRIPTION:
URL:https://vorsfelde-live.de/event/jahreshauptversammlung-kyffhaeuser-kameradschaft/
LOCATION:Schützenhaus\, Meinstraße 86\, Wolfsburg\, Meinstraße 86\, Wolfsburg\, 38448\, Deutschland
CATEGORIES:Termine
END:VEVENT
BEGIN:VEVENT
DTSTART;TZID=Europe/Berlin:20260110T180000
DTEND;TZID=Europe/Berlin:20260110T210000
DTSTAMP:20260422T160101
CREATED:20251207T091313Z
LAST-MODIFIED:20251207T091313Z
UID:4757-1768068000-1768078800@vorsfelde-live.de
SUMMARY:Jahreshauptversammlung Freiwillige Feuerwehr Vorsfelde
DESCRIPTION:
URL:https://vorsfelde-live.de/event/jahreshauptversammlung-freiwillige-feuerwehr-vorsfelde/
LOCATION:Niedersachsen
CATEGORIES:Termine
END:VEVENT
BEGIN:VEVENT
DTSTART;TZID=Europe/Berlin:20251207T080000
DTEND;TZID=Europe/Berlin:20251207T170000
DTSTAMP:20260422T160101
CREATED:20251207T092213Z
LAST-MODIFIED:20251207T092213Z
UID:4771-1765094400-1765126800@vorsfelde-live.de
SUMMARY:Theater „Der Enkeltrick“
DESCRIPTION:
URL:https://vorsfelde-live.de/event/theater-der-enkeltrick-2/
LOCATION:Domizil Kulturverein Zugabe\, Am Drömlingstadion 10\, Wolfsburg\, Niedersachsen\, 38448\, Germany
CATEGORIES:Termine
END:VEVENT
BEGIN:VEVENT
DTSTART;TZID=Europe/Berlin:20251206T193000
DTEND;TZID=Europe/Berlin:20251206T230000
DTSTAMP:20260422T160101
CREATED:20251021T054643Z
LAST-MODIFIED:20251021T054643Z
UID:4749-1765049400-1765062000@vorsfelde-live.de
SUMMARY:Anne Klinger - Fußtheater
DESCRIPTION:
URL:https://vorsfelde-live.de/event/anne-klinger-fusstheater/
LOCATION:Domizil Kulturverein Zugabe\, Am Drömlingstadion 10\, Wolfsburg\, Niedersachsen\, 38448\, Germany
CATEGORIES:Termine
END:VEVENT
BEGIN:VEVENT
DTSTART;VALUE=DATE:20251128
DTEND;VALUE=DATE:20251207
DTSTAMP:20260422T160101
CREATED:20241210T155628Z
LAST-MODIFIED:20241210T155628Z
UID:4661-1764288000-1765065599@vorsfelde-live.de
SUMMARY:Weihnachtsmarkt am Ütschenpaul
DESCRIPTION:
URL:https://vorsfelde-live.de/event/weihnachtsmarkt-am-uetschenpaul-2/
LOCATION:Uetschenpaul Vorsfelde\, Uetschenpaul\, Wolfsburg\, 38448\, Deutschland
CATEGORIES:Termine
END:VEVENT
BEGIN:VEVENT
DTSTART;TZID=Europe/Berlin:20251115T160000
DTEND;TZID=Europe/Berlin:20251115T190000
DTSTAMP:20260422T160101
CREATED:20241210T155752Z
LAST-MODIFIED:20241210T155752Z
UID:4663-1763222400-1763233200@vorsfelde-live.de
SUMMARY:Vorsfelder Laternenmarsch
DESCRIPTION:
URL:https://vorsfelde-live.de/event/vorsfelder-laternenmarsch/
LOCATION:SSV Stadion\, Am Drömlingstadion 12\, Wolfsburg/Vorsfelde\, Niedersachsen\, 38448\, Germany
CATEGORIES:Termine
END:VEVENT
END:VCALENDAR