BEGIN:VCALENDAR
VERSION:2.0
PRODID:-//Vorsfelde-live e.V. - ECPv6.15.20//NONSGML v1.0//EN
CALSCALE:GREGORIAN
METHOD:PUBLISH
X-ORIGINAL-URL:https://vorsfelde-live.de
X-WR-CALDESC:Veranstaltungen für Vorsfelde-live e.V.
REFRESH-INTERVAL;VALUE=DURATION:PT1H
X-Robots-Tag:noindex
X-PUBLISHED-TTL:PT1H
BEGIN:VTIMEZONE
TZID:Europe/Berlin
BEGIN:DAYLIGHT
TZOFFSETFROM:+0100
TZOFFSETTO:+0200
TZNAME:CEST
DTSTART:20250330T010000
END:DAYLIGHT
BEGIN:STANDARD
TZOFFSETFROM:+0200
TZOFFSETTO:+0100
TZNAME:CET
DTSTART:20251026T010000
END:STANDARD
BEGIN:DAYLIGHT
TZOFFSETFROM:+0100
TZOFFSETTO:+0200
TZNAME:CEST
DTSTART:20260329T010000
END:DAYLIGHT
BEGIN:STANDARD
TZOFFSETFROM:+0200
TZOFFSETTO:+0100
TZNAME:CET
DTSTART:20261025T010000
END:STANDARD
BEGIN:DAYLIGHT
TZOFFSETFROM:+0100
TZOFFSETTO:+0200
TZNAME:CEST
DTSTART:20270328T010000
END:DAYLIGHT
BEGIN:STANDARD
TZOFFSETFROM:+0200
TZOFFSETTO:+0100
TZNAME:CET
DTSTART:20271031T010000
END:STANDARD
END:VTIMEZONE
BEGIN:VEVENT
DTSTART;TZID=Europe/Berlin:20260330T080000
DTEND;TZID=Europe/Berlin:20260430T170000
DTSTAMP:20260422T124409
CREATED:20251207T093859Z
LAST-MODIFIED:20251207T093859Z
UID:4791-1774857600-1777568400@vorsfelde-live.de
SUMMARY:Ostergarten rund um die Petruskirche
DESCRIPTION:
URL:https://vorsfelde-live.de/event/ostergarten-rund-um-die-petruskirche-2/
LOCATION:St. Petrus-Kirche\, An der Propstei 1\, Wolfsburg/Vorsfelde\, Niedersachsen\, 38448\, Deutschland
CATEGORIES:Termine
END:VEVENT
BEGIN:VEVENT
DTSTART;TZID=Europe/Berlin:20260425T193000
DTEND;TZID=Europe/Berlin:20260425T223000
DTSTAMP:20260422T124409
CREATED:20251207T094502Z
LAST-MODIFIED:20251207T094502Z
UID:4797-1777145400-1777156200@vorsfelde-live.de
SUMMARY:Die Guitarreros „Contigo“
DESCRIPTION:
URL:https://vorsfelde-live.de/event/die-guitarreros-contigo/
LOCATION:Domizil Kulturverein Zugabe\, Am Drömlingstadion 10\, Wolfsburg\, Niedersachsen\, 38448\, Germany
CATEGORIES:Termine
END:VEVENT
BEGIN:VEVENT
DTSTART;TZID=Europe/Berlin:20260430T170000
DTEND;TZID=Europe/Berlin:20260430T200000
DTSTAMP:20260422T124409
CREATED:20251207T094611Z
LAST-MODIFIED:20251207T094611Z
UID:4799-1777568400-1777579200@vorsfelde-live.de
SUMMARY:Maibaumaufstellen
DESCRIPTION:
URL:https://vorsfelde-live.de/event/maibaumaufstellen-2/
LOCATION:Uetschenpaul Vorsfelde\, Uetschenpaul\, Wolfsburg\, 38448\, Deutschland
CATEGORIES:Termine
END:VEVENT
BEGIN:VEVENT
DTSTART;TZID=Europe/Berlin:20260510T100000
DTEND;TZID=Europe/Berlin:20260510T140000
DTSTAMP:20260422T124409
CREATED:20260209T124304Z
LAST-MODIFIED:20260209T124304Z
UID:4875-1778407200-1778421600@vorsfelde-live.de
SUMMARY:Gemeinsam unterwegs – gemeinsam genießen
DESCRIPTION:Am Muttertag fahren wir mit dem Planwagen durch den Drömling und machen unterwegs\nein gemütliches Picknick. Jede bringt dafür eine kleine Leckerei mit\, die wir teilen.\nEingeladen sind alle LandFrauen – gern auch mit Töchtern\, Schwiegertöchtern\,\nEnkeltöchtern oder mit einer Freundin.\nStart: 10:00 Uhr\, Parkplatz am Sportplatz des WSV Wendschott\nDauer: ca. 4 Stunden\nKosten: 17\,00 Euro\nHinweis: Die Teilnehmerzahl ist begrenzt.\nVerbindliche Anmeldung bis zum 04. Mai.\nSigrid Weinkauf Telefon: (05363) 9 91 43\nHeidrun Berngruber Telefon: (05361) 5 18 73
URL:https://vorsfelde-live.de/event/gemeinsam-unterwegs-gemeinsam-geniessen/
LOCATION:Niedersachsen
CATEGORIES:Termine
END:VEVENT
BEGIN:VEVENT
DTSTART;VALUE=DATE:20260514
DTEND;VALUE=DATE:20260515
DTSTAMP:20260422T124409
CREATED:20251207T094845Z
LAST-MODIFIED:20251207T094845Z
UID:4801-1778716800-1778803199@vorsfelde-live.de
SUMMARY:Ausflug nach Dannefeld
DESCRIPTION:Plattkring Heimatverein
URL:https://vorsfelde-live.de/event/ausflug-nach-dannefeld/
LOCATION:Niedersachsen
CATEGORIES:Termine
END:VEVENT
BEGIN:VEVENT
DTSTART;TZID=Europe/Berlin:20260525T110000
DTEND;TZID=Europe/Berlin:20260525T130000
DTSTAMP:20260422T124409
CREATED:20251207T094940Z
LAST-MODIFIED:20251207T094940Z
UID:4803-1779706800-1779714000@vorsfelde-live.de
SUMMARY:Ökumenischer Gottesdienst
DESCRIPTION:
URL:https://vorsfelde-live.de/event/oekumenischer-gottesdienst-4/
LOCATION:Johannesgemeinde Vorsfelde\, Schlesierstraße 3\, Vorsfelde\, Niedersachsen\, 38448\, Germany
CATEGORIES:Termine
END:VEVENT
BEGIN:VEVENT
DTSTART;TZID=Europe/Berlin:20260530T130000
DTEND;TZID=Europe/Berlin:20260530T160000
DTSTAMP:20260422T124409
CREATED:20260209T124432Z
LAST-MODIFIED:20260209T130418Z
UID:4877-1780146000-1780156800@vorsfelde-live.de
SUMMARY:Korn und Kruste – ein Besuch auf Gut Büstedt
DESCRIPTION:Seit Generationen bewirtschaftet Familie Schwartzkopff das Gut Büstedt. Neu ist die\nhofeigene Korn-Mühle\, die wir bei einer Führung kennenlernen. Anschließend gibt es\nKaffee und Kuchen.\nKosten: 13\,00 €\nEigenanreise – bitte Fahrgemeinschaften bilden\nVerbindliche Anmeldung bis 23. Mai\nDr. Ulrike Beckmann Telefon: (05363) 97 61 68\nHeidrun Berngruber Telefon: (05361) 5 18 73
URL:https://vorsfelde-live.de/event/korn-und-kruste-ein-besuch-auf-gut-buestedt/
LOCATION:Niedersachsen
CATEGORIES:Termine
END:VEVENT
BEGIN:VEVENT
DTSTART;TZID=Europe/Berlin:20260605T080000
DTEND;TZID=Europe/Berlin:20260607T170000
DTSTAMP:20260422T124409
CREATED:20251207T095044Z
LAST-MODIFIED:20251207T095044Z
UID:4805-1780646400-1780851600@vorsfelde-live.de
SUMMARY:Schützenfest
DESCRIPTION:
URL:https://vorsfelde-live.de/event/schuetzenfest-4/
LOCATION:Schützenhaus\, Meinstraße 86\, Wolfsburg\, Meinstraße 86\, Wolfsburg\, 38448\, Deutschland
CATEGORIES:Termine
END:VEVENT
BEGIN:VEVENT
DTSTART;TZID=Europe/Berlin:20260611T170000
DTEND;TZID=Europe/Berlin:20260611T190000
DTSTAMP:20260422T124409
CREATED:20251207T095237Z
LAST-MODIFIED:20251207T095237Z
UID:4807-1781197200-1781204400@vorsfelde-live.de
SUMMARY:Namen und Spitznamen Vorsfelder Originale
DESCRIPTION:mit Heinrich Eckebrecht
URL:https://vorsfelde-live.de/event/namen-und-spitznamen-vorsfelder-originale/
LOCATION:Niedersachsenhaus Wenschott\, Wendenstraße 14\, Wolfsburg/Vorsfelde\, 38448\, Germany
CATEGORIES:Termine
END:VEVENT
BEGIN:VEVENT
DTSTART;TZID=Europe/Berlin:20260612T080000
DTEND;TZID=Europe/Berlin:20260614T170000
DTSTAMP:20260422T124409
CREATED:20251207T095336Z
LAST-MODIFIED:20251207T095336Z
UID:4809-1781251200-1781456400@vorsfelde-live.de
SUMMARY:Vorsfelder Kunstpfad
DESCRIPTION:
URL:https://vorsfelde-live.de/event/vorsfelder-kunstpfad-4/
LOCATION:Niedersachsen
CATEGORIES:Termine
END:VEVENT
BEGIN:VEVENT
DTSTART;VALUE=DATE:20260613
DTEND;VALUE=DATE:20260614
DTSTAMP:20260422T124409
CREATED:20251207T095605Z
LAST-MODIFIED:20251207T095605Z
UID:4811-1781308800-1781395199@vorsfelde-live.de
SUMMARY:Sterbepflege
DESCRIPTION:Eine Kooperationsveranstaltung des DRK und dem Hospiz Wolfsburg
URL:https://vorsfelde-live.de/event/sterbepflege/
LOCATION:DRK-Heim\, Fritz-Weiberg-Straße 2A\, Wolfsburg/Vorsfelde\, 38448\, Germany
CATEGORIES:Termine
END:VEVENT
BEGIN:VEVENT
DTSTART;TZID=Europe/Berlin:20260623T083000
DTEND;TZID=Europe/Berlin:20260623T180000
DTSTAMP:20260422T124409
CREATED:20260209T130804Z
LAST-MODIFIED:20260209T130804Z
UID:4879-1782203400-1782237600@vorsfelde-live.de
SUMMARY:Gärten der Altmark
DESCRIPTION:Die Altmark ist eine Region im Norden von Sachsen-Anhalt.\nAuf dem Programm stehen der Besuch zweier Gärten in der historischen Kulturlandschaft\nsowie eine Führung im Ökodorf „Sieben Linden“.\nDas Ökodorf ist eine sozial-ökologische Modellsiedlung und versteht sich als\nForschungsprojekt für eine zukunftsorientierte Lebensweise – in der Arbeit und Freizeit\,\nÖkonomie und Ökologie\, Individuum und Gemeinschaft sowie weltoffene und dörfliche\nKultur im Einklang miteinander stehen.\nIm Reisepreis enthalten: Busfahrt\, Imbiss mit frischen Produkten aus dem Garten\n(Hinweis: Zutritt zum Speiseraum nur mit Strümpfen oder Hausschuhen!)\, Führungen\nsowie Kaffeetrinken.\nKosten: 76\,00 Euro\nAbfahrt: 08:30 Uhr Vorsfelde / Ankunft in Vorsfelde ca. 18:00 Uhr\nAnmeldung: Reisebüro briOtours\, Lange Straße 30\, Vorsfelde
URL:https://vorsfelde-live.de/event/gaerten-der-altmark/
LOCATION:Niedersachsen
CATEGORIES:Termine
END:VEVENT
BEGIN:VEVENT
DTSTART;TZID=Europe/Berlin:20260624T080000
DTEND;TZID=Europe/Berlin:20260624T170000
DTSTAMP:20260422T124409
CREATED:20260209T130955Z
LAST-MODIFIED:20260209T130955Z
UID:4882-1782288000-1782320400@vorsfelde-live.de
SUMMARY:Gärten der Altmark
DESCRIPTION:Die Altmark ist eine Region im Norden von Sachsen-Anhalt.\nAuf dem Programm stehen der Besuch zweier Gärten in der historischen Kulturlandschaft\nsowie eine Führung im Ökodorf „Sieben Linden“.\nDas Ökodorf ist eine sozial-ökologische Modellsiedlung und versteht sich als\nForschungsprojekt für eine zukunftsorientierte Lebensweise – in der Arbeit und Freizeit\,\nÖkonomie und Ökologie\, Individuum und Gemeinschaft sowie weltoffene und dörfliche\nKultur im Einklang miteinander stehen.\nIm Reisepreis enthalten: Busfahrt\, Imbiss mit frischen Produkten aus dem Garten\n(Hinweis: Zutritt zum Speiseraum nur mit Strümpfen oder Hausschuhen!)\, Führungen\nsowie Kaffeetrinken.\nKosten: 76\,00 Euro\nAbfahrt: 08:30 Uhr Vorsfelde / Ankunft in Vorsfelde ca. 18:00 Uhr\nAnmeldung: Reisebüro briOtours\, Lange Straße 30\, Vorsfelde
URL:https://vorsfelde-live.de/event/gaerten-der-altmark-2/
LOCATION:Niedersachsen
CATEGORIES:Termine
END:VEVENT
BEGIN:VEVENT
DTSTART;TZID=Europe/Berlin:20260627T080000
DTEND;TZID=Europe/Berlin:20260930T170000
DTSTAMP:20260422T124409
CREATED:20251207T100019Z
LAST-MODIFIED:20251207T100019Z
UID:4814-1782547200-1790787600@vorsfelde-live.de
SUMMARY:Sommergarten
DESCRIPTION:
URL:https://vorsfelde-live.de/event/sommergarten/
LOCATION:St. Petrus-Kirche\, An der Propstei 1\, Wolfsburg/Vorsfelde\, Niedersachsen\, 38448\, Deutschland
CATEGORIES:Termine
END:VEVENT
BEGIN:VEVENT
DTSTART;TZID=Europe/Berlin:20260709T140000
DTEND;TZID=Europe/Berlin:20260709T193000
DTSTAMP:20260422T124409
CREATED:20251207T100127Z
LAST-MODIFIED:20251207T100127Z
UID:4816-1783605600-1783625400@vorsfelde-live.de
SUMMARY:DRK Blutspende
DESCRIPTION:
URL:https://vorsfelde-live.de/event/drk-blutspende-3/
LOCATION:Heidgartenschule\, Zum Heidgarten 42\, Wolfsburg\, Niedersachsen\, 38448\, Deutschland
CATEGORIES:Termine
END:VEVENT
BEGIN:VEVENT
DTSTART;TZID=Europe/Berlin:20260713T140000
DTEND;TZID=Europe/Berlin:20260713T193000
DTSTAMP:20260422T124409
CREATED:20251207T100213Z
LAST-MODIFIED:20251207T100213Z
UID:4818-1783951200-1783971000@vorsfelde-live.de
SUMMARY:DRK Blutspende
DESCRIPTION:
URL:https://vorsfelde-live.de/event/drk-blutspende-4/
LOCATION:Heidgartenschule\, Zum Heidgarten 42\, Wolfsburg\, Niedersachsen\, 38448\, Deutschland
CATEGORIES:Termine
END:VEVENT
BEGIN:VEVENT
DTSTART;TZID=Europe/Berlin:20260807T080000
DTEND;TZID=Europe/Berlin:20260808T170000
DTSTAMP:20260422T124409
CREATED:20251207T100418Z
LAST-MODIFIED:20251207T100418Z
UID:4820-1786089600-1786208400@vorsfelde-live.de
SUMMARY:Eberfest
DESCRIPTION:Vorsfelder Pudding
URL:https://vorsfelde-live.de/event/eberfest-5/
LOCATION:Niedersachsen
CATEGORIES:Termine
END:VEVENT
BEGIN:VEVENT
DTSTART;TZID=Europe/Berlin:20260820T091500
DTEND;TZID=Europe/Berlin:20260820T173000
DTSTAMP:20260422T124409
CREATED:20260210T071916Z
LAST-MODIFIED:20260210T071916Z
UID:4884-1787217300-1787247000@vorsfelde-live.de
SUMMARY:Tagesfahrt ins Eckertal mit Planwagenfahrt
DESCRIPTION:Erleben Sie eine Planwagenfahrt durch den Harz und entlang der ehemaligen\ninnerdeutschen Grenze nach Ilsenburg. Bei einer Rundfahrt durch die historische Altstadt\nmit Fachwerkhäusern und Forellenteich genießen Sie ein originales Harzer Hausschlachte-\nPicknick mit Wurst\, Harzkäse\, Gurken und frischem Landbrot.\nZurück auf dem Hof lassen wir den Tag bei Kaffee und selbstgebackenem Blechkuchen\nausklingen. Es besteht die Gelegenheit\, auch den Hofladen zu besuchen.\nKosten: 76\,00 Euro\nAbfahrt: 09:15 Uhr Schützenplatz Vorsfelde / Ankunft in Vorsfelde ca. 17:30 Uhr\nAnmeldung: Reisebüro briOtours\, Lange Straße 30\, Vorsfelde
URL:https://vorsfelde-live.de/event/tagesfahrt-ins-eckertal-mit-planwagenfahrt/
LOCATION:Niedersachsen
CATEGORIES:Termine
END:VEVENT
BEGIN:VEVENT
DTSTART;TZID=Europe/Berlin:20260903T170000
DTEND;TZID=Europe/Berlin:20260903T190000
DTSTAMP:20260422T124409
CREATED:20251207T100515Z
LAST-MODIFIED:20251207T100515Z
UID:4822-1788454800-1788462000@vorsfelde-live.de
SUMMARY:Bürgerpicknick rund um die Petruskirche
DESCRIPTION:
URL:https://vorsfelde-live.de/event/buergerpicknick-rund-um-die-petruskirche/
LOCATION:St. Petrus-Kirche\, An der Propstei 1\, Wolfsburg/Vorsfelde\, Niedersachsen\, 38448\, Deutschland
CATEGORIES:Termine
END:VEVENT
BEGIN:VEVENT
DTSTART;VALUE=DATE:20260912
DTEND;VALUE=DATE:20260913
DTSTAMP:20260422T124409
CREATED:20251207T100613Z
LAST-MODIFIED:20251207T100613Z
UID:4824-1789171200-1789257599@vorsfelde-live.de
SUMMARY:Oktoberfest St. Michael
DESCRIPTION:
URL:https://vorsfelde-live.de/event/oktoberfest-st-michael-2/
LOCATION:St. Michael\, Am Engelhop 1\, Wolfsburg\, Niedersachsen\, 38448\, Deutschland
CATEGORIES:Termine
END:VEVENT
BEGIN:VEVENT
DTSTART;TZID=Europe/Berlin:20260924T070000
DTEND;TZID=Europe/Berlin:20260927T190000
DTSTAMP:20260422T124409
CREATED:20260210T072249Z
LAST-MODIFIED:20260210T072249Z
UID:4888-1790233200-1790535600@vorsfelde-live.de
SUMMARY:4-tägige Reise ins Erzgebirge und in die Sächsische Schweiz
DESCRIPTION:Wir erleben gemeinsam mächtige Felsformationen\, tiefe Schluchten und bizarre\nLandschaften der Sächsischen Schweiz. Ebenso entdecken wir die dichten Wälder\,\nmalerischen Höhenzüge und historischen Bergstädte des Erzgebirges. Unser gemütliches\nAHORN Waldhotel Altenberg ist dabei der ideale Ausgangspunkt für Natur\, Kultur und\nEntspannung. Ein perfekter Mix aus Aktivität\, Naturerlebnis und Gemeinschaft für uns alle!\nKosten: DZ 420\,00 Euro\nEZ 515\,00 Euro\nAbfahrt: 07:00 Uhr Schützenplatz Vorsfelde / Ankunft in Vorsfelde ca. 19:00 Uhr\nAnmeldung: Reisebüro briOtours\, Lange Straße 30\, Vorsfelde
URL:https://vorsfelde-live.de/event/4-taegige-reise-ins-erzgebirge-und-in-die-saechsische-schweiz/
LOCATION:Niedersachsen
CATEGORIES:Termine
END:VEVENT
BEGIN:VEVENT
DTSTART;TZID=Europe/Berlin:20260926T193000
DTEND;TZID=Europe/Berlin:20260926T223000
DTSTAMP:20260422T124409
CREATED:20251207T100721Z
LAST-MODIFIED:20251207T100721Z
UID:4826-1790451000-1790461800@vorsfelde-live.de
SUMMARY:Donato Plögert „Die janze Welt is Banane“
DESCRIPTION:
URL:https://vorsfelde-live.de/event/donato-ploegert-die-janze-welt-is-banane/
LOCATION:Domizil Kulturverein Zugabe\, Am Drömlingstadion 10\, Wolfsburg\, Niedersachsen\, 38448\, Germany
CATEGORIES:Termine
END:VEVENT
BEGIN:VEVENT
DTSTART;VALUE=DATE:20261003
DTEND;VALUE=DATE:20261004
DTSTAMP:20260422T124409
CREATED:20251207T100900Z
LAST-MODIFIED:20251207T100900Z
UID:4828-1790985600-1791071999@vorsfelde-live.de
SUMMARY:Tag der Deutschen Einheit
DESCRIPTION:ab 10.30 Uhr
URL:https://vorsfelde-live.de/event/tag-der-deutschen-einheit-2/
LOCATION:Schützenhaus\, Meinstraße 86\, Wolfsburg\, Meinstraße 86\, Wolfsburg\, 38448\, Deutschland
CATEGORIES:Termine
END:VEVENT
BEGIN:VEVENT
DTSTART;TZID=Europe/Berlin:20261004T080000
DTEND;TZID=Europe/Berlin:20261004T170000
DTSTAMP:20260422T124409
CREATED:20251207T100937Z
LAST-MODIFIED:20251207T100937Z
UID:4830-1791100800-1791133200@vorsfelde-live.de
SUMMARY:Erntedankfest und Erntekrone
DESCRIPTION:
URL:https://vorsfelde-live.de/event/erntedankfest-und-erntekrone/
LOCATION:Niedersachsen
CATEGORIES:Termine
END:VEVENT
BEGIN:VEVENT
DTSTART;TZID=Europe/Berlin:20261015T140000
DTEND;TZID=Europe/Berlin:20261015T193000
DTSTAMP:20260422T124409
CREATED:20251207T101042Z
LAST-MODIFIED:20251207T101042Z
UID:4833-1792072800-1792092600@vorsfelde-live.de
SUMMARY:DRK Blutspende
DESCRIPTION:
URL:https://vorsfelde-live.de/event/drk-blutspende-5/
LOCATION:Heidgartenschule\, Zum Heidgarten 42\, Wolfsburg\, Niedersachsen\, 38448\, Deutschland
CATEGORIES:Termine
END:VEVENT
BEGIN:VEVENT
DTSTART;TZID=Europe/Berlin:20261030T173000
DTEND;TZID=Europe/Berlin:20261030T220000
DTSTAMP:20260422T124409
CREATED:20260210T072422Z
LAST-MODIFIED:20260210T072422Z
UID:4890-1793381400-1793397600@vorsfelde-live.de
SUMMARY:Nachtwächterwanderung in Fallersleben
DESCRIPTION:Begeben Sie sich mit unserem Nachtwächter Fritz auf eine Zeitreise ins Jahr 1861!\nMit Handlaternen ausgestattet\, erkunden Sie die historische Altstadt von Fallersleben.\nUnterwegs inszeniert ein Team von rund neun Straßenschauspielern mehrere Szenen\, die\ndas Leben im 19. Jahrhundert lebendig werden lassen. Die Runde dauert etwa 90 Minuten\,\nist überwiegend ebenerdig und auch mit Rollator gut begehbar.\nBitte denken Sie an wettergerechte Kleidung und warmes Schuhwerk\, da wir für\nErklärungen und Szenen öfter stehen bleiben.\nVerbindliche Anmeldung und Bezahlung bei:\nRita Paelecke Telefon: (05361) 6 14 64\nPetra Zastrau Telefon: (05363) 36 38\nTreffpunkt: Fallersleben\, Westerbreite 35 (gegenüber dem Hoffmannhaus)\nUhrzeit: 17:30 Uhr\nKosten: 8\,00 Euro
URL:https://vorsfelde-live.de/event/nachtwaechterwanderung-in-fallersleben/
LOCATION:Niedersachsen
CATEGORIES:Termine
END:VEVENT
BEGIN:VEVENT
DTSTART;TZID=Europe/Berlin:20261101T100000
DTEND;TZID=Europe/Berlin:20261101T120000
DTSTAMP:20260422T124409
CREATED:20251207T101141Z
LAST-MODIFIED:20251207T101141Z
UID:4835-1793527200-1793534400@vorsfelde-live.de
SUMMARY:Schlachtefrühstück
DESCRIPTION:
URL:https://vorsfelde-live.de/event/schlachtefruehstueck-4/
LOCATION:Niedersachsen
CATEGORIES:Termine
END:VEVENT
BEGIN:VEVENT
DTSTART;TZID=Europe/Berlin:20261108T180000
DTEND;TZID=Europe/Berlin:20261108T230000
DTSTAMP:20260422T124409
CREATED:20251207T101230Z
LAST-MODIFIED:20251207T101230Z
UID:4837-1794160800-1794178800@vorsfelde-live.de
SUMMARY:Kirchennacht
DESCRIPTION:
URL:https://vorsfelde-live.de/event/kirchennacht-2/
LOCATION:St. Petrus Kirche\, Vorsfelde\,\, Amtsstr. 31\, Wolfsburg/Vorsfelde\, 38448\, Deutschland
CATEGORIES:Termine
END:VEVENT
BEGIN:VEVENT
DTSTART;TZID=Europe/Berlin:20261112T140000
DTEND;TZID=Europe/Berlin:20261112T170000
DTSTAMP:20260422T124409
CREATED:20260210T072623Z
LAST-MODIFIED:20260210T072623Z
UID:4892-1794492000-1794502800@vorsfelde-live.de
SUMMARY:Wie die Abwehrkräfte gestärkt werden können
DESCRIPTION:In Zeiten erhöhter Ansteckungsgefahr ist ein starkes Immunsystem wichtiger denn je.\nZahlreiche Lebensmittel und Getränke verstärken die Schutzmechanismen des Körpers\nund tragen dazu bei\, Infektionskrankheiten vorzubeugen und schneller wieder\nloszuwerden.\nReferentin: Renate Frank\nTischschmuck: Nordsteimke / Bärbel Labatz\nVerbindliche Anmeldung bei Ihrer Ortsvertreterin bis 09. November
URL:https://vorsfelde-live.de/event/wie-die-abwehrkraefte-gestaerkt-werden-koennen/
LOCATION:Schützenhaus\, Meinstraße 86\, Wolfsburg\, Meinstraße 86\, Wolfsburg\, 38448\, Deutschland
CATEGORIES:Termine
END:VEVENT
BEGIN:VEVENT
DTSTART;TZID=Europe/Berlin:20261114T160000
DTEND;TZID=Europe/Berlin:20261114T180000
DTSTAMP:20260422T124409
CREATED:20251207T101522Z
LAST-MODIFIED:20251207T101522Z
UID:4841-1794672000-1794679200@vorsfelde-live.de
SUMMARY:Vorsfelder Laternenmarsch SSV
DESCRIPTION:
URL:https://vorsfelde-live.de/event/vorsfelder-laternenmarsch-ssv/
LOCATION:SSV Stadion\, Am Drömlingstadion 12\, Wolfsburg/Vorsfelde\, Niedersachsen\, 38448\, Germany
CATEGORIES:Termine
END:VEVENT
END:VCALENDAR