BEGIN:VCALENDAR
VERSION:2.0
PRODID:-//Vorsfelde-live e.V. - ECPv6.15.20//NONSGML v1.0//EN
CALSCALE:GREGORIAN
METHOD:PUBLISH
X-ORIGINAL-URL:https://vorsfelde-live.de
X-WR-CALDESC:Veranstaltungen für Vorsfelde-live e.V.
REFRESH-INTERVAL;VALUE=DURATION:PT1H
X-Robots-Tag:noindex
X-PUBLISHED-TTL:PT1H
BEGIN:VTIMEZONE
TZID:Europe/Berlin
BEGIN:DAYLIGHT
TZOFFSETFROM:+0100
TZOFFSETTO:+0200
TZNAME:CEST
DTSTART:20230326T010000
END:DAYLIGHT
BEGIN:STANDARD
TZOFFSETFROM:+0200
TZOFFSETTO:+0100
TZNAME:CET
DTSTART:20231029T010000
END:STANDARD
BEGIN:DAYLIGHT
TZOFFSETFROM:+0100
TZOFFSETTO:+0200
TZNAME:CEST
DTSTART:20240331T010000
END:DAYLIGHT
BEGIN:STANDARD
TZOFFSETFROM:+0200
TZOFFSETTO:+0100
TZNAME:CET
DTSTART:20241027T010000
END:STANDARD
BEGIN:DAYLIGHT
TZOFFSETFROM:+0100
TZOFFSETTO:+0200
TZNAME:CEST
DTSTART:20250330T010000
END:DAYLIGHT
BEGIN:STANDARD
TZOFFSETFROM:+0200
TZOFFSETTO:+0100
TZNAME:CET
DTSTART:20251026T010000
END:STANDARD
END:VTIMEZONE
BEGIN:VEVENT
DTSTART;VALUE=DATE:20240614
DTEND;VALUE=DATE:20240617
DTSTAMP:20260422T032520
CREATED:20240425T062145Z
LAST-MODIFIED:20240425T062145Z
UID:4398-1718323200-1718582399@vorsfelde-live.de
SUMMARY:Vorsfelder Kunstpfad
DESCRIPTION:
URL:https://vorsfelde-live.de/event/vorsfelder-kunstpfad-3/
LOCATION:Vorsfelde\, Wolfsburg/Vorsfelde\, 38448\, Germany
CATEGORIES:Termine
END:VEVENT
BEGIN:VEVENT
DTSTART;VALUE=DATE:20240615
DTEND;VALUE=DATE:20240616
DTSTAMP:20260422T032520
CREATED:20240328T125803Z
LAST-MODIFIED:20240328T125803Z
UID:4354-1718409600-1718495999@vorsfelde-live.de
SUMMARY:Konzert Shantys Musikfestival
DESCRIPTION:
URL:https://vorsfelde-live.de/event/konzert-shantys-musikfestival/
LOCATION:Porschestraße\, Porschestraße\, Vorsfelde\, Niedersachsen\, 38446
CATEGORIES:Termine
END:VEVENT
BEGIN:VEVENT
DTSTART;VALUE=DATE:20240616
DTEND;VALUE=DATE:20240617
DTSTAMP:20260422T032520
CREATED:20240328T130037Z
LAST-MODIFIED:20240328T130037Z
UID:4357-1718496000-1718582399@vorsfelde-live.de
SUMMARY:Konzert Gemischter Chor Hallenbad
DESCRIPTION:
URL:https://vorsfelde-live.de/event/konzert-gemischter-chor-hallenbad/
LOCATION:Niedersachsen
CATEGORIES:Termine
END:VEVENT
END:VCALENDAR