BEGIN:VCALENDAR
VERSION:2.0
PRODID:-//Vorsfelde-live e.V. - ECPv6.15.20//NONSGML v1.0//EN
CALSCALE:GREGORIAN
METHOD:PUBLISH
X-ORIGINAL-URL:https://vorsfelde-live.de
X-WR-CALDESC:Veranstaltungen für Vorsfelde-live e.V.
REFRESH-INTERVAL;VALUE=DURATION:PT1H
X-Robots-Tag:noindex
X-PUBLISHED-TTL:PT1H
BEGIN:VTIMEZONE
TZID:Europe/Berlin
BEGIN:DAYLIGHT
TZOFFSETFROM:+0100
TZOFFSETTO:+0200
TZNAME:CEST
DTSTART:20210328T010000
END:DAYLIGHT
BEGIN:STANDARD
TZOFFSETFROM:+0200
TZOFFSETTO:+0100
TZNAME:CET
DTSTART:20211031T010000
END:STANDARD
BEGIN:DAYLIGHT
TZOFFSETFROM:+0100
TZOFFSETTO:+0200
TZNAME:CEST
DTSTART:20220327T010000
END:DAYLIGHT
BEGIN:STANDARD
TZOFFSETFROM:+0200
TZOFFSETTO:+0100
TZNAME:CET
DTSTART:20221030T010000
END:STANDARD
BEGIN:DAYLIGHT
TZOFFSETFROM:+0100
TZOFFSETTO:+0200
TZNAME:CEST
DTSTART:20230326T010000
END:DAYLIGHT
BEGIN:STANDARD
TZOFFSETFROM:+0200
TZOFFSETTO:+0100
TZNAME:CET
DTSTART:20231029T010000
END:STANDARD
END:VTIMEZONE
BEGIN:VEVENT
DTSTART;VALUE=DATE:20220430
DTEND;VALUE=DATE:20220501
DTSTAMP:20260422T190816
CREATED:20220222T080113Z
LAST-MODIFIED:20220222T080113Z
UID:3778-1651276800-1651363199@vorsfelde-live.de
SUMMARY:Maibaum aufstellen am Uetschenpaul
DESCRIPTION:70 Jahre Heimatverein | mit Tanz
URL:https://vorsfelde-live.de/event/maibaum-aufstellen-am-uetschenpaul/
LOCATION:Uetschenpaul Vorsfelde\, Uetschenpaul\, Wolfsburg\, 38448\, Deutschland
CATEGORIES:Termine
END:VEVENT
END:VCALENDAR