BEGIN:VCALENDAR
VERSION:2.0
PRODID:-//Vorsfelde-live e.V. - ECPv6.15.20//NONSGML v1.0//EN
CALSCALE:GREGORIAN
METHOD:PUBLISH
X-WR-CALNAME:Vorsfelde-live e.V.
X-ORIGINAL-URL:https://vorsfelde-live.de
X-WR-CALDESC:Veranstaltungen für Vorsfelde-live e.V.
REFRESH-INTERVAL;VALUE=DURATION:PT1H
X-Robots-Tag:noindex
X-PUBLISHED-TTL:PT1H
BEGIN:VTIMEZONE
TZID:Europe/Berlin
BEGIN:DAYLIGHT
TZOFFSETFROM:+0100
TZOFFSETTO:+0200
TZNAME:CEST
DTSTART:20210328T010000
END:DAYLIGHT
BEGIN:STANDARD
TZOFFSETFROM:+0200
TZOFFSETTO:+0100
TZNAME:CET
DTSTART:20211031T010000
END:STANDARD
BEGIN:DAYLIGHT
TZOFFSETFROM:+0100
TZOFFSETTO:+0200
TZNAME:CEST
DTSTART:20220327T010000
END:DAYLIGHT
BEGIN:STANDARD
TZOFFSETFROM:+0200
TZOFFSETTO:+0100
TZNAME:CET
DTSTART:20221030T010000
END:STANDARD
BEGIN:DAYLIGHT
TZOFFSETFROM:+0100
TZOFFSETTO:+0200
TZNAME:CEST
DTSTART:20230326T010000
END:DAYLIGHT
BEGIN:STANDARD
TZOFFSETFROM:+0200
TZOFFSETTO:+0100
TZNAME:CET
DTSTART:20231029T010000
END:STANDARD
END:VTIMEZONE
BEGIN:VEVENT
DTSTART;VALUE=DATE:20220108
DTEND;VALUE=DATE:20220109
DTSTAMP:20260421T213347
CREATED:20211021T151212Z
LAST-MODIFIED:20211021T151212Z
UID:3686-1641600000-1641686399@vorsfelde-live.de
SUMMARY:Jahreshauptversammlung
DESCRIPTION:
URL:https://vorsfelde-live.de/event/jahreshauptversammlung-2/
CATEGORIES:Termine
END:VEVENT
BEGIN:VEVENT
DTSTART;TZID=Europe/Berlin:20220113T140000
DTEND;TZID=Europe/Berlin:20220113T170000
DTSTAMP:20260421T213347
CREATED:20211021T133420Z
LAST-MODIFIED:20211021T133420Z
UID:3647-1642082400-1642093200@vorsfelde-live.de
SUMMARY:"Wie wir wurden was wir sind"
DESCRIPTION:Ehrung langjähriger Mitglieder Jahresrückblick 2021
URL:https://vorsfelde-live.de/event/wie-wir-wurden-was-wir-sind/
LOCATION:Schützenhaus\, Meinstraße 86\, Wolfsburg\, Meinstraße 86\, Wolfsburg\, 38448\, Deutschland
CATEGORIES:Termine
END:VEVENT
BEGIN:VEVENT
DTSTART;TZID=Europe/Berlin:20220119T190000
DTEND;TZID=Europe/Berlin:20220119T220000
DTSTAMP:20260421T213347
CREATED:20211021T133536Z
LAST-MODIFIED:20211021T133536Z
UID:3649-1642618800-1642629600@vorsfelde-live.de
SUMMARY:Unsere Schilddrüse
DESCRIPTION:Erkrankungen und Therapie
URL:https://vorsfelde-live.de/event/unsere-schilddruese/
LOCATION:Schützenhaus\, Meinstraße 86\, Wolfsburg\, Meinstraße 86\, Wolfsburg\, 38448\, Deutschland
CATEGORIES:Termine
END:VEVENT
END:VCALENDAR