BEGIN:VCALENDAR
VERSION:2.0
PRODID:-//Vorsfelde-live e.V. - ECPv6.15.20//NONSGML v1.0//EN
CALSCALE:GREGORIAN
METHOD:PUBLISH
X-ORIGINAL-URL:https://vorsfelde-live.de
X-WR-CALDESC:Veranstaltungen für Vorsfelde-live e.V.
REFRESH-INTERVAL;VALUE=DURATION:PT1H
X-Robots-Tag:noindex
X-PUBLISHED-TTL:PT1H
BEGIN:VTIMEZONE
TZID:Europe/Berlin
BEGIN:DAYLIGHT
TZOFFSETFROM:+0100
TZOFFSETTO:+0200
TZNAME:CEST
DTSTART:20210328T010000
END:DAYLIGHT
BEGIN:STANDARD
TZOFFSETFROM:+0200
TZOFFSETTO:+0100
TZNAME:CET
DTSTART:20211031T010000
END:STANDARD
BEGIN:DAYLIGHT
TZOFFSETFROM:+0100
TZOFFSETTO:+0200
TZNAME:CEST
DTSTART:20220327T010000
END:DAYLIGHT
BEGIN:STANDARD
TZOFFSETFROM:+0200
TZOFFSETTO:+0100
TZNAME:CET
DTSTART:20221030T010000
END:STANDARD
BEGIN:DAYLIGHT
TZOFFSETFROM:+0100
TZOFFSETTO:+0200
TZNAME:CEST
DTSTART:20230326T010000
END:DAYLIGHT
BEGIN:STANDARD
TZOFFSETFROM:+0200
TZOFFSETTO:+0100
TZNAME:CET
DTSTART:20231029T010000
END:STANDARD
END:VTIMEZONE
BEGIN:VEVENT
DTSTART;TZID=Europe/Berlin:20220302T180000
DTEND;TZID=Europe/Berlin:20220302T220000
DTSTAMP:20260421T182817
CREATED:20220222T075531Z
LAST-MODIFIED:20220222T075531Z
UID:3771-1646244000-1646258400@vorsfelde-live.de
SUMMARY:JHV Heimatverein
DESCRIPTION:
URL:https://vorsfelde-live.de/event/jhv-heimatverein/
LOCATION:Rolf-Nolting-Haus\, Am Drömlingstadion 10\, Wolfsburg\, Niedersachsen\, 38448\, Deutschland
CATEGORIES:Termine
END:VEVENT
BEGIN:VEVENT
DTSTART;TZID=Europe/Berlin:20220310T140000
DTEND;TZID=Europe/Berlin:20220310T190000
DTSTAMP:20260421T182817
CREATED:20211021T145610Z
LAST-MODIFIED:20211021T145610Z
UID:3660-1646920800-1646938800@vorsfelde-live.de
SUMMARY:Jahreshauptversammlung und Landwirtschaft in Deutschland - was bedeutet das?
DESCRIPTION:mit Basar
URL:https://vorsfelde-live.de/event/jahreshauptversammlung-und-landwirtschaft-in-deutschland-was-bedeutet-das/
LOCATION:Schützenhaus\, Meinstraße 86\, Wolfsburg\, Meinstraße 86\, Wolfsburg\, 38448\, Deutschland
CATEGORIES:Termine
END:VEVENT
BEGIN:VEVENT
DTSTART;TZID=Europe/Berlin:20220316T190000
DTEND;TZID=Europe/Berlin:20220316T220000
DTSTAMP:20260421T182817
CREATED:20211021T145717Z
LAST-MODIFIED:20211021T145717Z
UID:3662-1647457200-1647468000@vorsfelde-live.de
SUMMARY:Granny AuPair
DESCRIPTION:Als Leihoma unterwegs
URL:https://vorsfelde-live.de/event/granny-aupair/
LOCATION:Schützenhaus\, Meinstraße 86\, Wolfsburg\, Meinstraße 86\, Wolfsburg\, 38448\, Deutschland
CATEGORIES:Termine
END:VEVENT
BEGIN:VEVENT
DTSTART;TZID=Europe/Berlin:20220326T080000
DTEND;TZID=Europe/Berlin:20220327T170000
DTSTAMP:20260421T182817
CREATED:20220208T064949Z
LAST-MODIFIED:20220208T064949Z
UID:3727-1648281600-1648400400@vorsfelde-live.de
SUMMARY:Hallenturnier Dressur
DESCRIPTION:
URL:https://vorsfelde-live.de/event/hallenturnier-dressur/
LOCATION:Alter Kirchweg 99\, 38446 Wolfsburg\, Alter Kirchweg 99\, Wolfsburg/Vorsfelde\, Niedersachsen\, 38446\, Deutschland
CATEGORIES:Termine
END:VEVENT
END:VCALENDAR